BEGIN:VCALENDAR
VERSION:2.0
PRODID:-//Audrey Mouton Photographe - ECPv6.10.1.1//NONSGML v1.0//EN
CALSCALE:GREGORIAN
METHOD:PUBLISH
X-ORIGINAL-URL:https://audreymouton.fr
X-WR-CALDESC:Évènements pour Audrey Mouton Photographe
REFRESH-INTERVAL;VALUE=DURATION:PT1H
X-Robots-Tag:noindex
X-PUBLISHED-TTL:PT1H
BEGIN:VTIMEZONE
TZID:Europe/Paris
BEGIN:DAYLIGHT
TZOFFSETFROM:+0100
TZOFFSETTO:+0200
TZNAME:CEST
DTSTART:20230326T010000
END:DAYLIGHT
BEGIN:STANDARD
TZOFFSETFROM:+0200
TZOFFSETTO:+0100
TZNAME:CET
DTSTART:20231029T010000
END:STANDARD
END:VTIMEZONE
BEGIN:VEVENT
DTSTART;VALUE=DATE:20230409
DTEND;VALUE=DATE:20230411
DTSTAMP:20260423T070443
CREATED:20230401T105051Z
LAST-MODIFIED:20230401T105051Z
UID:1277-1680998400-1681171199@audreymouton.fr
SUMMARY:TDA Crève-Cœur
DESCRIPTION:Tournée des As Poney de Crève-Cœur
URL:https://audreymouton.fr/event/tda-creve-coeur/
LOCATION:Ecuries de Crève Coeur\, Lieu-dit Crève Coeur\, Issoudun\, 36100\, France
CATEGORIES:TDA
ATTACH;FMTTYPE=image/jpeg:https://audreymouton.fr/wp-content/uploads/2023/04/crevecoeur.jpg
END:VEVENT
END:VCALENDAR